BEGIN:VCALENDAR
VERSION:2.0
PRODID:-//upRising Church Austin - ECPv6.15.20//NONSGML v1.0//EN
CALSCALE:GREGORIAN
METHOD:PUBLISH
X-WR-CALNAME:upRising Church Austin
X-ORIGINAL-URL:https://uprisingaustin.org
X-WR-CALDESC:Events for upRising Church Austin
REFRESH-INTERVAL;VALUE=DURATION:PT1H
X-Robots-Tag:noindex
X-PUBLISHED-TTL:PT1H
BEGIN:VTIMEZONE
TZID:America/Chicago
BEGIN:DAYLIGHT
TZOFFSETFROM:-0600
TZOFFSETTO:-0500
TZNAME:CDT
DTSTART:20250309T080000
END:DAYLIGHT
BEGIN:STANDARD
TZOFFSETFROM:-0500
TZOFFSETTO:-0600
TZNAME:CST
DTSTART:20251102T070000
END:STANDARD
BEGIN:DAYLIGHT
TZOFFSETFROM:-0600
TZOFFSETTO:-0500
TZNAME:CDT
DTSTART:20260308T080000
END:DAYLIGHT
BEGIN:STANDARD
TZOFFSETFROM:-0500
TZOFFSETTO:-0600
TZNAME:CST
DTSTART:20261101T070000
END:STANDARD
BEGIN:DAYLIGHT
TZOFFSETFROM:-0600
TZOFFSETTO:-0500
TZNAME:CDT
DTSTART:20270314T080000
END:DAYLIGHT
BEGIN:STANDARD
TZOFFSETFROM:-0500
TZOFFSETTO:-0600
TZNAME:CST
DTSTART:20271107T070000
END:STANDARD
END:VTIMEZONE
BEGIN:VEVENT
DTSTART;TZID=America/Chicago:20260420T103000
DTEND;TZID=America/Chicago:20260420T130000
DTSTAMP:20260421T033524
CREATED:20260128T051330Z
LAST-MODIFIED:20260408T142038Z
UID:5840-1776681000-1776690000@uprisingaustin.org
SUMMARY:Golden Generation
DESCRIPTION:All people 60+ are invited to gather on Mondays and Wednesday for socializing\, activities\, special presentations\, and lunch provided by Meals on Wheels.  Activities include crafting\, board games\, puzzles\, BINGO\, chair yoga\, and more!
URL:https://uprisingaustin.org/event/golden-generation-5/
LOCATION:Cowan Hall\, 8601 South 1st Street\, Austin\, TX\, 78748\, United States
CATEGORIES:Ministries
ATTACH;FMTTYPE=image/jpeg:https://uprisingaustin.org/wp-content/uploads/2026/02/goldenger1image.jpg
END:VEVENT
BEGIN:VEVENT
DTSTART;TZID=America/Chicago:20260419T111500
DTEND;TZID=America/Chicago:20260419T120000
DTSTAMP:20260421T033524
CREATED:20260408T141805Z
LAST-MODIFIED:20260408T141805Z
UID:6395-1776597300-1776600000@uprisingaustin.org
SUMMARY:Braving the Bible
DESCRIPTION:Braving the Bible is an opportunity to come together and explore the Bible through the lens of who we understand God to be.
URL:https://uprisingaustin.org/event/braving-the-bible/
LOCATION:Cowan Hall\, 8601 South 1st Street\, Austin\, TX\, 78748\, United States
ATTACH;FMTTYPE=image/jpeg:https://uprisingaustin.org/wp-content/uploads/2026/02/gi_bravingbible.jpg
END:VEVENT
BEGIN:VEVENT
DTSTART;TZID=America/Chicago:20260405T123000
DTEND;TZID=America/Chicago:20260405T130000
DTSTAMP:20260421T033524
CREATED:20260328T215702Z
LAST-MODIFIED:20260328T215933Z
UID:6331-1775392200-1775394000@uprisingaustin.org
SUMMARY:Easter Egg Hunt
DESCRIPTION:15 minutes after the Sunday Easter Service
URL:https://uprisingaustin.org/event/easter-egg-hunt/
LOCATION:UpRising Austin\, 8601 South 1st Street\, Austin\, TX\, 78748\, United States
END:VEVENT
BEGIN:VEVENT
DTSTART;TZID=America/Chicago:20260405T100000
DTEND;TZID=America/Chicago:20260405T123000
DTSTAMP:20260421T033524
CREATED:20260227T212734Z
LAST-MODIFIED:20260315T213208Z
UID:6274-1775383200-1775392200@uprisingaustin.org
SUMMARY:Easter Sunday Service
DESCRIPTION:Easter Egg hunt after the service! We celebrate Christ the Victor! Featuring a full string ensemble\, celebrating Jesus’s resurrection.
URL:https://uprisingaustin.org/event/easter-sunday-service/
LOCATION:UpRising Austin\, 8601 South 1st Street\, Austin\, TX\, 78748\, United States
END:VEVENT
BEGIN:VEVENT
DTSTART;TZID=America/Chicago:20260404T100000
DTEND;TZID=America/Chicago:20260404T120000
DTSTAMP:20260421T033524
CREATED:20260128T045436Z
LAST-MODIFIED:20260329T193318Z
UID:5824-1775296800-1775304000@uprisingaustin.org
SUMMARY:Chrysalis Q
DESCRIPTION:ChrysalisQ’s mission is to build a network of care and connection for children and families in the LGBTQI+ community\, and their play days are a joyful way to experience just that.
URL:https://uprisingaustin.org/event/chrysalis-q/
LOCATION:UpRising Austin\, 8601 South 1st Street\, Austin\, TX\, 78748\, United States
CATEGORIES:feature 4,Programs
ATTACH;FMTTYPE=image/jpeg:https://uprisingaustin.org/wp-content/uploads/2026/02/chrysQ_event.jpg
END:VEVENT
BEGIN:VEVENT
DTSTART;TZID=America/Chicago:20260403T190000
DTEND;TZID=America/Chicago:20260403T200000
DTSTAMP:20260421T033524
CREATED:20260329T145416Z
LAST-MODIFIED:20260329T145625Z
UID:6335-1775242800-1775246400@uprisingaustin.org
SUMMARY:Good Friday Service
DESCRIPTION:We gather to hear the story of Jesus’s trial and crucifixion\, to sing songs and to share communion.
URL:https://uprisingaustin.org/event/good-friday-service/
LOCATION:UpRising Austin\, 8601 South 1st Street\, Austin\, TX\, 78748\, United States
END:VEVENT
BEGIN:VEVENT
DTSTART;TZID=America/Chicago:20260328T090000
DTEND;TZID=America/Chicago:20260328T120000
DTSTAMP:20260421T033524
CREATED:20260128T050250Z
LAST-MODIFIED:20260327T221643Z
UID:5832-1774688400-1774699200@uprisingaustin.org
SUMMARY:Grounds Work Day
DESCRIPTION:Anyone can help\, no experience needed
URL:https://uprisingaustin.org/event/grounds-work-day-2/
LOCATION:UpRising Austin\, 8601 South 1st Street\, Austin\, TX\, 78748\, United States
CATEGORIES:Teams
ATTACH;FMTTYPE=image/jpeg:https://uprisingaustin.org/wp-content/uploads/2019/06/main-e1560557257749.jpg
END:VEVENT
BEGIN:VEVENT
DTSTART;TZID=America/Chicago:20260325T183000
DTEND;TZID=America/Chicago:20260325T203000
DTSTAMP:20260421T033524
CREATED:20260128T045249Z
LAST-MODIFIED:20260307T213754Z
UID:5822-1774463400-1774470600@uprisingaustin.org
SUMMARY:Game Night
DESCRIPTION:
URL:https://uprisingaustin.org/event/game-night-2/
LOCATION:Cowan Hall\, 8601 South 1st Street\, Austin\, TX\, 78748\, United States
CATEGORIES:feature 4,Ministries
ATTACH;FMTTYPE=image/jpeg:https://uprisingaustin.org/wp-content/uploads/2026/02/gamenightimage.jpg
END:VEVENT
BEGIN:VEVENT
DTSTART;TZID=America/Chicago:20260315T080000
DTEND;TZID=America/Chicago:20260405T170000
DTSTAMP:20260421T033524
CREATED:20260315T222431Z
LAST-MODIFIED:20260315T224053Z
UID:6307-1773561600-1775408400@uprisingaustin.org
SUMMARY:Purple Bunny
DESCRIPTION:This year the Purple Bunny donations will help supply the Shower Mobile. Pick up an egg and return items by April 5th.
URL:https://uprisingaustin.org/event/purple-bunny/
LOCATION:UpRising Austin\, 8601 South 1st Street\, Austin\, TX\, 78748\, United States
ATTACH;FMTTYPE=image/jpeg:https://uprisingaustin.org/wp-content/uploads/2026/03/e_purplebunny2.jpg
END:VEVENT
BEGIN:VEVENT
DTSTART;TZID=America/Chicago:20260311T183000
DTEND;TZID=America/Chicago:20260311T183000
DTSTAMP:20260421T033524
CREATED:20260128T045617Z
LAST-MODIFIED:20260307T213946Z
UID:5826-1773253800-1773253800@uprisingaustin.org
SUMMARY:Game Night
DESCRIPTION:
URL:https://uprisingaustin.org/event/game-night-3/
LOCATION:Cowan Hall\, 8601 South 1st Street\, Austin\, TX\, 78748\, United States
CATEGORIES:Ministries
ATTACH;FMTTYPE=image/jpeg:https://uprisingaustin.org/wp-content/uploads/2026/02/gamenightimage.jpg
END:VEVENT
BEGIN:VEVENT
DTSTART;TZID=America/Chicago:20260309T103000
DTEND;TZID=America/Chicago:20260309T130000
DTSTAMP:20260421T033524
CREATED:20260128T051832Z
LAST-MODIFIED:20260307T212301Z
UID:5844-1773052200-1773061200@uprisingaustin.org
SUMMARY:Golden Generation
DESCRIPTION:All people 60+ are invited to gather on Mondays and Wednesday for socializing\, activities\, special presentations\, and lunch provided by Meals on Wheels. The program is the first of its kind for LGBTQ seniors and their friends and allies. Activities include crafting\, board games\, puzzles\, BINGO\, chair yoga\, and more!
URL:https://uprisingaustin.org/event/golden-generation-7/
LOCATION:Cowan Hall\, 8601 South 1st Street\, Austin\, TX\, 78748\, United States
CATEGORIES:feature 4
ATTACH;FMTTYPE=image/jpeg:https://uprisingaustin.org/wp-content/uploads/2026/02/goldengenerationimage.jpg
END:VEVENT
BEGIN:VEVENT
DTSTART;TZID=America/Chicago:20260211T183000
DTEND;TZID=America/Chicago:20260211T183000
DTSTAMP:20260421T033524
CREATED:20260127T035658Z
LAST-MODIFIED:20260329T193507Z
UID:5798-1770834600-1770834600@uprisingaustin.org
SUMMARY:Game Night
DESCRIPTION:On the second and fourth Wednesdays of each month at 6:30 pm\, everyone is invited to gather in Cowan Hall for pizza and games. This is a great way to meet others and socialize!
URL:https://uprisingaustin.org/event/game-night/
LOCATION:Cowan Hall\, 8601 South 1st Street\, Austin\, TX\, 78748\, United States
CATEGORIES:feature 4
ATTACH;FMTTYPE=image/jpeg:https://uprisingaustin.org/wp-content/uploads/2026/02/gamenightimage.jpg
END:VEVENT
END:VCALENDAR